BEGIN:VCALENDAR
VERSION:2.0
PRODID:-//ChamberMaster//Event Calendar 2.0//EN
METHOD:PUBLISH
X-PUBLISHED-TTL:P3D
REFRESH-INTERVAL:P3D
CALSCALE:GREGORIAN
BEGIN:VEVENT
DTSTART:20190822T123000Z
DTEND:20190822T140000Z
X-MICROSOFT-CDO-ALLDAYEVENT:FALSE
SUMMARY:EDF First to Know Breakfast | Connecting Your Business With Ole Miss
DESCRIPTION:Connecting your business to Ole Miss is easier than you think\, and we are here to provide support every step of the way.\n\n \n\nWesley Dickens with the Ole Miss Business School will be our speaker\, and he will provide valuable information on strategies for connecting your organization to campus resources that will help support (and grow) your business.\n\n \n\nIn this information session you'll learn: \n\n \n\n\n	About (free) resources available to your organization through Ole Miss including academic credit internships\, student organizations\, and training workshops/clinics\n	How to connect your organization to these resources and increase visibility on the Ole Miss campus\n	Employer testimonials of how they've built a mutually beneficial partnership with the University
X-ALT-DESC;FMTTYPE=text/html:<blockquote style="font-family: Helvetica\; font-size: 12px\;" type="cite">\n<div dir="ltr">\n<div>\n<div style="margin: 0px\; text-align: justify\; font-stretch: normal\; line-height: normal\;"><span style="-webkit-font-kerning: none\;"><font face="HelveticaNeue">Connecting your business to Ole Miss is easier than you think\, and we are here to provide support every step of the way.</font></span></div>\n\n<div style="margin: 0px\; text-align: justify\; font-stretch: normal\; line-height: normal\; min-height: 12px\;">&nbsp\;</div>\n\n<div style="margin: 0px\; text-align: justify\; font-stretch: normal\; line-height: normal\;"><span style="-webkit-font-kerning: none\;"><font face="HelveticaNeue">Wesley Dickens with the Ole Miss Business School will be our speaker\, and he will provide valuable information on&nbsp\;strategies for connecting your organization to campus resources that will help support (and grow) your business.</font></span></div>\n\n<div style="margin: 0px\; text-align: justify\; font-stretch: normal\; line-height: normal\; min-height: 12px\;">&nbsp\;</div>\n\n<div style="margin: 0px\; text-align: justify\; font-stretch: normal\; line-height: normal\;"><span style="-webkit-font-kerning: none\;"><font face="HelveticaNeue">In this information session you&rsquo\;ll learn:&nbsp\;</font></span></div>\n\n<div style="margin: 0px\; text-align: justify\; font-stretch: normal\; line-height: normal\; min-height: 12px\;">&nbsp\;</div>\n\n<ul>\n	<li style="margin: 0px\; text-align: justify\; font-stretch: normal\; line-height: normal\;"><font face="HelveticaNeue"><span style="-webkit-font-kerning: none\;">About (free) resources available to your organization through Ole Miss including academic credit internships\, student organizations\, and training workshops/clinics</span></font></li>\n	<li style="margin: 0px\; text-align: justify\; font-stretch: normal\; line-height: normal\;"><font face="HelveticaNeue"><span style="-webkit-font-kerning: none\;">How to connect your organization to these resources and increase visibility on the Ole Miss campus</span></font></li>\n	<li style="margin: 0px\; text-align: justify\; font-stretch: normal\; line-height: normal\;"><font face="HelveticaNeue"><span style="-webkit-font-kerning: none\;">Employer testimonials of how they&rsquo\;ve built a mutually beneficial partnership with the University</span></font></li>\n</ul>\n</div>\n</div>\n</blockquote>\n
LOCATION:Jackson Ave. Center\, 1111Jackson Ave. W.\, Oxford\, MS 38655
UID:e.1330.3121
SEQUENCE:3
DTSTAMP:20260424T052926Z
URL:https://business.oxfordms.com/events/details/edf-first-to-know-breakfast-connecting-your-business-with-ole-miss-08-22-2019-3121
END:VEVENT

END:VCALENDAR
