BEGIN:VCALENDAR
VERSION:2.0
PRODID:-//ChamberMaster//Event Calendar 2.0//EN
METHOD:PUBLISH
X-PUBLISHED-TTL:P3D
REFRESH-INTERVAL:P3D
CALSCALE:GREGORIAN
BEGIN:VEVENT
DTSTART:20170815T123000Z
DTEND:20170815T140000Z
X-MICROSOFT-CDO-ALLDAYEVENT:FALSE
SUMMARY:EDF First to Know Breakfast featuring Berkeley Young
DESCRIPTION:Berkeley Young\, President of Young Strategies will share Visit Oxford's updated travel market research study and lodging analysis.
X-ALT-DESC;FMTTYPE=text/html:Berkeley Young\, President of Young Strategies will share Visit Oxford&#39\;s updated travel market research study and lodging analysis.
LOCATION:102 Ed Perry Blvd\, Oxford\, MS 38655
UID:e.1330.1789
SEQUENCE:3
DTSTAMP:20260425T233049Z
URL:https://business.oxfordms.com/events/details/edf-first-to-know-breakfast-featuring-berkeley-young-08-15-2017-1789
END:VEVENT

END:VCALENDAR
