BEGIN:VCALENDAR
VERSION:2.0
PRODID:-//ChamberMaster//Event Calendar 2.0//EN
METHOD:PUBLISH
X-PUBLISHED-TTL:P3D
REFRESH-INTERVAL:P3D
CALSCALE:GREGORIAN
BEGIN:VEVENT
DTSTART:20190917T123000Z
DTEND:20190917T140000Z
X-MICROSOFT-CDO-ALLDAYEVENT:FALSE
SUMMARY:EDF First to Know Breakfast | Up Date on Baptist Memorial Hospital followed by a Mississippi Cares Presentation
DESCRIPTION:The Oxford-Lafayette County Economic Development Foundation invites you to attend a First To Know Breakfast\, featuring Peyton Warrington with Baptist Memorial Hospital along with Richard Roberson\, General Counsel and Vice President for Policy and State Advocacy MS Hospital Association.
X-ALT-DESC;FMTTYPE=text/html:The Oxford-Lafayette County Economic Development Foundation invites you to attend a First To Know Breakfast\, featuring Peyton Warrington with Baptist Memorial Hospital along with Richard Roberson\, General Counsel and Vice President for Policy and State Advocacy MS Hospital Association.
LOCATION:Baptist Memorial Hospital Medical Plaza | Magnolia Room 1100 Belk Blvd. Oxford
UID:e.1330.3082
SEQUENCE:3
DTSTAMP:20260424T035554Z
URL:https://business.oxfordms.com/events/details/edf-first-to-know-breakfast-up-date-on-baptist-memorial-hospital-followed-by-a-mississippi-cares-presentation-09-17-2019-3082
END:VEVENT

END:VCALENDAR
