BEGIN:VCALENDAR
VERSION:2.0
PRODID:-//ChamberMaster//Event Calendar 2.0//EN
METHOD:PUBLISH
X-PUBLISHED-TTL:P3D
REFRESH-INTERVAL:P3D
CALSCALE:GREGORIAN
BEGIN:VEVENT
DTSTART:20200106T133000Z
DTEND:20200106T150000Z
X-MICROSOFT-CDO-ALLDAYEVENT:FALSE
SUMMARY:Eggs and Issues: A Breakfast with Area Legislators
DESCRIPTION:Hosted by the Oxford-Lafayette County Chamber of Commerce and The Economic Development Foundation\n\nSponsored by North Central MS Realtors\, Sneed's Ace Hardware\, Something Southern\, Abbeville Bank. Smith Building Supply\, North East MS EPA\, MayoMallette\, Renasant Bank and Cannon Motors.
X-ALT-DESC;FMTTYPE=text/html:Hosted by the Oxford-Lafayette County Chamber of Commerce and The Economic Development Foundation<br />\nSponsored by North Central MS Realtors\, Sneed&#39\;s Ace Hardware\, Something Southern\, Abbeville Bank. Smith Building Supply\, North East MS EPA\, MayoMallette\, Renasant Bank and Cannon Motors.
LOCATION:Ballroom at Courtyard Oxford 305 Jackson Avenue East
UID:e.1330.3158
SEQUENCE:3
DTSTAMP:20260424T003845Z
URL:https://business.oxfordms.com/events/details/eggs-and-issues-a-breakfast-with-area-legislators-01-06-2020-3158
END:VEVENT

END:VCALENDAR
