BEGIN:VCALENDAR
VERSION:2.0
PRODID:-//ChamberMaster//Event Calendar 2.0//EN
METHOD:PUBLISH
X-PUBLISHED-TTL:P3D
REFRESH-INTERVAL:P3D
CALSCALE:GREGORIAN
BEGIN:VEVENT
DTSTART:20180419T210000Z
DTEND:20180419T213000Z
X-MICROSOFT-CDO-ALLDAYEVENT:FALSE
SUMMARY:Eley Barkley Dale Architecture Contacts and Cocktails
DESCRIPTION:Eley Barkley Dale Architecture will celebrate their business in Oxford with Contact and Cocktails Reception hosted by the Oxford-Lafayette County Chamber. Eley Barkley Dale Architecture has a large assortment of professional staff including planners\, architects\, landscape architects\, interior designers\, CADD specialists\, construction administrators and marketing/graphics personnel.
X-ALT-DESC;FMTTYPE=text/html:Eley Barkley Dale Architecture will celebrate their business in Oxford with Contact and Cocktails Reception hosted by the Oxford-Lafayette County Chamber. Eley Barkley Dale Architecture has a large assortment of professional staff including planners\, architects\, landscape architects\, interior designers\, CADD specialists\, construction administrators and marketing/graphics personnel.<span class="text-all"> </span>
LOCATION:The Graduate Oxford\, 400 N Lamar Blvd.
UID:e.1330.1880
SEQUENCE:3
DTSTAMP:20260425T105830Z
URL:https://business.oxfordms.com/events/details/eley-barkley-dale-architecture-contacts-and-cocktails-04-19-2018-1880
END:VEVENT

END:VCALENDAR
