BEGIN:VCALENDAR
VERSION:2.0
PRODID:-//ChamberMaster//Event Calendar 2.0//EN
METHOD:PUBLISH
X-PUBLISHED-TTL:P3D
REFRESH-INTERVAL:P3D
CALSCALE:GREGORIAN
BEGIN:VEVENT
DTSTART:20190219T223000Z
DTEND:20190220T010000Z
X-MICROSOFT-CDO-ALLDAYEVENT:FALSE
SUMMARY:Elite Physical Therapy Open House
DESCRIPTION:Elite Physical Therapy will celebrate their new location in Oxford with an Open House hosted by the Oxford-Lafayette County Chamber.\n\nElite Physical Therapy's philosophy of care is dedicated to consistently providing their patients with the best care and service humanly possible. Their purpose is centered on their patients\, not themselves\, ensuring they always do what is in their best interest.
X-ALT-DESC;FMTTYPE=text/html:Elite Physical Therapy will celebrate their&nbsp\;new&nbsp\;location&nbsp\;in Oxford with an Open House hosted by the Oxford-Lafayette County Chamber.<br />\nElite Physical Therapy&#39\;s philosophy of care is dedicated to consistently providing their patients with the best care and service humanly possible. Their purpose is centered on their patients\, not themselves\, ensuring they always do what is in their best interest.<br />\n&nbsp\;
LOCATION:204 Enterprise Drive\, Oxford\, MS
UID:e.1330.3077
SEQUENCE:3
DTSTAMP:20260424T155836Z
URL:https://business.oxfordms.com/events/details/elite-physical-therapy-open-house-02-19-2019-3077
END:VEVENT

END:VCALENDAR
