BEGIN:VCALENDAR
VERSION:2.0
PRODID:-//ChamberMaster//Event Calendar 2.0//EN
METHOD:PUBLISH
X-PUBLISHED-TTL:P3D
REFRESH-INTERVAL:P3D
CALSCALE:GREGORIAN
BEGIN:VEVENT
DTSTART:20171115T173000Z
DTEND:20171115T180000Z
X-MICROSOFT-CDO-ALLDAYEVENT:FALSE
SUMMARY:Elite Physical Therapy Ribbon Cutting Ceremony
DESCRIPTION:Elite Physical Therapy will celebrate their new business in Oxford with a Ribbon Cutting Ceremony hosted by the Oxford-Lafayette County Chamber.\n\nElite Physical Therapy's philosophy of care is dedicated to consistently providing their patients with the best care and service humanly possible. Their purpose is centered on their patients\, not themselves\, ensuring they always do what is in their best interest.
X-ALT-DESC;FMTTYPE=text/html:Elite Physical Therapy will celebrate their&nbsp\;new business&nbsp\;in Oxford with a&nbsp\;Ribbon Cutting Ceremony hosted by the Oxford-Lafayette County Chamber.<br />\nElite Physical Therapy&#39\;s philosophy of care is dedicated to consistently providing their patients with the best care and service humanly possible. Their purpose is centered on their patients\, not themselves\, ensuring they always do what is in their best interest.<br />\n&nbsp\;
LOCATION:300 Enterprise Drive Suite B Oxford\, MS
UID:e.1330.1841
SEQUENCE:3
DTSTAMP:20260425T165555Z
URL:https://business.oxfordms.com/events/details/elite-physical-therapy-ribbon-cutting-ceremony-11-15-2017-1841
END:VEVENT

END:VCALENDAR
