BEGIN:VCALENDAR
VERSION:2.0
PRODID:-//ChamberMaster//Event Calendar 2.0//EN
METHOD:PUBLISH
X-PUBLISHED-TTL:P3D
REFRESH-INTERVAL:P3D
CALSCALE:GREGORIAN
BEGIN:VEVENT
DTSTART:20190207T170000Z
DTEND:20190207T190000Z
X-MICROSOFT-CDO-ALLDAYEVENT:FALSE
SUMMARY:Empty Bowls Lunch
DESCRIPTION:Come to the Oxford Conference Center for this popular annual fundraiser benefiting The Pantry. For $20 patrons choose a bowl handmade by local potters and soup donated by local restaurants.
X-ALT-DESC;FMTTYPE=text/html:Come to the Oxford Conference Center for this popular annual fundraiser benefiting The Pantry. For $20 patrons choose a bowl handmade by local potters and soup donated by local restaurants.
LOCATION:Oxford Conference Center
UID:e.1330.2843
SEQUENCE:3
DTSTAMP:20260424T155048Z
URL:https://business.oxfordms.com/events/details/empty-bowls-lunch-02-07-2019-2843
END:VEVENT

END:VCALENDAR
