BEGIN:VCALENDAR
VERSION:2.0
PRODID:-//ChamberMaster//Event Calendar 2.0//EN
METHOD:PUBLISH
X-PUBLISHED-TTL:P3D
REFRESH-INTERVAL:P3D
CALSCALE:GREGORIAN
BEGIN:VEVENT
DTSTART:20170928T210000Z
DTEND:20170928T213000Z
X-MICROSOFT-CDO-ALLDAYEVENT:FALSE
SUMMARY:EXCITE Oxford Ribbon Cutting Ceremony
DESCRIPTION:EXCITE Oxford will celebrate their new business in Oxford with a Ribbon Cutting Ceremony hosted by the Oxford-Lafayette County Chamber.EXC!TE Spin + Pilates + Life is a lifestyle space\, focused on dynamic Spinning and Pilates\, with additional retail elements. With the combination of a high-intensity Spinning class and a low-impact Pilates class\, clients see the effects of both a calorie-burn and muscle toning.
X-ALT-DESC;FMTTYPE=text/html:EXCITE Oxford will celebrate their&nbsp\;new business&nbsp\;in Oxford with a&nbsp\;Ribbon Cutting Ceremony hosted by the Oxford-Lafayette County Chamber.EXC!TE Spin + Pilates + Life is a lifestyle space\, focused on dynamic Spinning and Pilates\, with additional retail elements. With the combination of a high-intensity Spinning class and a low-impact Pilates class\, clients see the effects of both a calorie-burn and muscle toning.
LOCATION:319 N Lamar Blvd\, Suite 102
UID:e.1330.1797
SEQUENCE:3
DTSTAMP:20260425T215734Z
URL:https://business.oxfordms.com/events/details/excite-oxford-ribbon-cutting-ceremony-09-28-2017-1797
END:VEVENT

END:VCALENDAR
