BEGIN:VCALENDAR
VERSION:2.0
PRODID:-//ChamberMaster//Event Calendar 2.0//EN
METHOD:PUBLISH
X-PUBLISHED-TTL:P3D
REFRESH-INTERVAL:P3D
CALSCALE:GREGORIAN
BEGIN:VEVENT
DTSTART:20180810T160000Z
DTEND:20180810T170000Z
X-MICROSOFT-CDO-ALLDAYEVENT:FALSE
SUMMARY:Express Employment Professionals Ribbon Cutting Ceremony
DESCRIPTION:Express Emploment Professionals will celebrate their new business in Oxford with a Ribbon Cutting Ceremony hosted by the Oxford-Lafayette County Chamber.\n\nExpress Employment Professionals is one of the top staffing companies in the U.S. and Canada. Every day\, we help people find jobs and provide workforce solutions to businesses. Oxford\, MS Express provides a full range of employment solutions that include full-time\, temporary\, and part-time employment in a wide range of positions\, including professional\, commercial\, and administrative. We're here to support you.
X-ALT-DESC;FMTTYPE=text/html:Express Emploment Professionals will celebrate their&nbsp\;new business&nbsp\;in Oxford with a&nbsp\;Ribbon Cutting Ceremony hosted by the Oxford-Lafayette County Chamber.<br />\nExpress Employment Professionals is one of the top staffing companies in the U.S. and Canada. Every day\, we help people find jobs and provide workforce solutions to businesses. Oxford\, MS Express provides a full range of employment solutions that include full-time\, temporary\, and part-time employment in a wide range of positions\, including professional\, commercial\, and administrative. We&#39\;re here to support you.<br />\n&nbsp\;
LOCATION:2686 West Oxford Loop
UID:e.1330.1890
SEQUENCE:3
DTSTAMP:20260425T021347Z
URL:https://business.oxfordms.com/events/details/express-employment-professionals-ribbon-cutting-ceremony-08-10-2018-1890
END:VEVENT

END:VCALENDAR
