BEGIN:VCALENDAR
VERSION:2.0
PRODID:-//ChamberMaster//Event Calendar 2.0//EN
METHOD:PUBLISH
X-PUBLISHED-TTL:P3D
REFRESH-INTERVAL:P3D
CALSCALE:GREGORIAN
BEGIN:VEVENT
DTSTART;VALUE=DATE:20180206
DTEND;VALUE=DATE:20180301
TRANSP:TRANSPARENT
X-MICROSOFT-CDO-ALLDAYEVENT:TRUE
SUMMARY:February Gala Ticket Special!
DESCRIPTION:4th annual Red Carpet Gala\, presented by Cannon Motors of Mississippi\,\n\nSweetheart Special for the month of February\, Buy One Ticket Get One FREE!\n\nTickets can be purchased at the Chamber Office\, by calling 662-234-4651 or www.olccredcarpetgala.com
X-ALT-DESC;FMTTYPE=text/html:4th annual Red Carpet Gala\, presented by Cannon Motors of Mississippi\,<br />\nSweetheart Special for the month of February\, Buy One Ticket Get One FREE!<br />\nTickets can be purchased at the Chamber Office\, by calling 662-234-4651 or www.olccredcarpetgala.com
LOCATION:Castle Hill Resort
UID:e.1330.1860
SEQUENCE:3
DTSTAMP:20260425T120246Z
URL:https://business.oxfordms.com/events/details/february-gala-ticket-special-02-06-2018-1860
END:VEVENT

END:VCALENDAR
