BEGIN:VCALENDAR
VERSION:2.0
PRODID:-//ChamberMaster//Event Calendar 2.0//EN
METHOD:PUBLISH
X-PUBLISHED-TTL:P3D
REFRESH-INTERVAL:P3D
CALSCALE:GREGORIAN
BEGIN:VEVENT
DTSTART:20220908T160000Z
DTEND:20220908T163000Z
X-MICROSOFT-CDO-ALLDAYEVENT:FALSE
SUMMARY:First Commercial Bank Ribbon Cutting Ceremony
DESCRIPTION:First Commercial Bank  invites you to attend their Ribbon Cutting Ceremony hosted by the Oxford-Lafayette County Chamber. Come and learn about the personalized business-centric service they offer.\n\n\n\nFirst Commercial Bank first opened our doors in October of 2000 in Jackson with the goal of being Mississippi's first and foremost bank for businesses and professionals. Today\, we're proud to say that's still our number one motivation for getting out of bed every morning. In addition\, Fergndan's Wood Fired Pizza will be on sight with their brick oven making pizzas for all attendees.\n\n\n\nWe love what we do\, and we do what we love\, which is to deliver a level of personalized\, business-centric service to our clients that is unmatched\, made possible by a team of uniquely talented bankers. Our dedicated focus and highly-personalized approach have changed the banking landscape in Mississippi.
X-ALT-DESC;FMTTYPE=text/html:<b style="font-family: arial\; font-size: 12px\;">First Commercial&nbsp\;</b><font face="arial"><span style="font-size: 12px\;"><b>Bank&nbsp\;</b>&nbsp\;invites you to attend their Ribbon Cutting Ceremony hosted by the Oxford-Lafayette County Chamber. Come and learn about the&nbsp\;personalized business-centric service they offer.</span></font><br />\n<br />\n<span style="font-size:12px\;"><span style="font-family:arial\;"><span style="letter-spacing:0.3pt\;"><span style="color:#343434\;"><strong>First Commercial Bank</strong> first opened our doors in October of 2000 in Jackson with the goal of being Mississippi&rsquo\;s first and foremost bank for businesses and professionals. Today\, we&rsquo\;re proud to say that&rsquo\;s still our number one motivation for getting out of bed every morning. In addition\, Fergndan&#39\;s Wood Fired Pizza will be on sight with their brick oven making pizzas for all attendees.</span></span><br />\n<br />\n<span style="letter-spacing:0.3pt\;"><span style="color:#343434\;">We love what we do\, and we do what we love\, which is to deliver a level of personalized\, business-centric service to our clients that is unmatched\, made possible by a team of uniquely talented bankers. Our dedicated focus and highly-personalized approach have changed the banking landscape in Mississippi.</span></span></span></span>\n<div class="banner__text" style="font-size: 16px\; box-sizing: inherit\; margin-top: 1rem\; max-width: 100%\; caret-color: rgba(90\, 18\, 36\, 0.75)\; color: rgba(90\, 18\, 36\, 0.75)\; font-family: Lato\, sans-serif\; letter-spacing: 0.6000000238418579px\; background-color: rgb(251\, 251\, 251)\;">&nbsp\;</div>\n
LOCATION:908 North Lamar Blvd. Suite 102 Oxford\, MS
UID:e.1330.4189
SEQUENCE:3
DTSTAMP:20260421T090135Z
URL:https://business.oxfordms.com/events/details/first-commercial-bank-ribbon-cutting-ceremony-4189
END:VEVENT

END:VCALENDAR
