BEGIN:VCALENDAR
VERSION:2.0
PRODID:-//ChamberMaster//Event Calendar 2.0//EN
METHOD:PUBLISH
X-PUBLISHED-TTL:P3D
REFRESH-INTERVAL:P3D
CALSCALE:GREGORIAN
BEGIN:VEVENT
DTSTART:20200306T160000Z
DTEND:20200307T000000Z
X-MICROSOFT-CDO-ALLDAYEVENT:FALSE
SUMMARY:First Friday Free Sketch @ the UM Museum
DESCRIPTION:FRIDAY\, FEBRUARY 7\, 2020\n\nFRIDAY\, MARCH 6\, 2020\n\nFRIDAY\, APRIL 3\, 2020\n\nFRIDAY\, MAY 1\, 2020\n\n10:00 a.m.   6:00 p.m. (drop-in)\n\nThe University of Mississippi Museum\n\nCOST: FREE!\n\nFREE sketch materials will be provided (first-come) or you are welcome to bring a sketchbook.\n\nLook for the Museum's gallery sketching stools generously provided by a grant from the Lafayette Oxford Foundation for Tomorrow (LOFT) and explore the galleries in this informal\, free sketch session for all skill levels.
X-ALT-DESC;FMTTYPE=text/html:<h2>FRIDAY\, FEBRUARY 7\, 2020</h2>\n\n<h2>FRIDAY\, MARCH 6\, 2020</h2>\n\n<h2>FRIDAY\, APRIL 3\, 2020</h2>\n\n<h2>FRIDAY\, MAY 1\, 2020</h2>\n\n<p><strong>10:00 a.m.&thinsp\;&ndash\;&thinsp\;6:00 p.m.&thinsp\;(drop-in)</strong></p>\n\n<p>The University of Mississippi Museum<br />\n<strong>COST:</strong> FREE!</p>\n\n<p><em>FREE sketch materials will be provided (first-come) or you are welcome to bring a sketchbook.</em></p>\n\n<p>Look for the Museum&rsquo\;s gallery sketching stools generously provided by a grant from the Lafayette Oxford Foundation for Tomorrow (LOFT) and explore the galleries in this informal\, free sketch session for all skill levels.</p>\n
LOCATION:The University of Mississippi Museum University Ave. & 5th Street Oxford\, MS
UID:e.1330.3163
SEQUENCE:3
DTSTAMP:20260423T192654Z
URL:https://business.oxfordms.com/events/details/first-friday-free-sketch-the-um-museum-03-06-2020-3163
END:VEVENT

END:VCALENDAR
