BEGIN:VCALENDAR
VERSION:2.0
PRODID:-//ChamberMaster//Event Calendar 2.0//EN
METHOD:PUBLISH
X-PUBLISHED-TTL:P3D
REFRESH-INTERVAL:P3D
CALSCALE:GREGORIAN
BEGIN:VEVENT
DTSTART:20170509T210000Z
DTEND:20170509T213000Z
X-MICROSOFT-CDO-ALLDAYEVENT:FALSE
SUMMARY:Flying Tuk Ribbon Cutting Ceremony
DESCRIPTION:Flying Tuk will celebrate their new business in Oxford with a Ribbon Cutting Ceremony hosted by the Oxford-Lafayette County Chamber. Flying Tuk is more then a ride\, it's an experience. It's an open air\, eco-friendly\, party on 3 wheels with enough room for you and 5 of your friends.
X-ALT-DESC;FMTTYPE=text/html:<span style="font-size:14px\;">Flying Tuk will celebrate their&nbsp\;new business in Oxford with a Ribbon Cutting Ceremony hosted by the Oxford-Lafayette County Chamber. Flying Tuk is more then a ride\, it&rsquo\;s an experience. It&rsquo\;s an open air\, eco-friendly\, party on 3 wheels with enough room for you and 5 of your friends.</span><br />\n&nbsp\;
LOCATION:The Powerhouse 413 South 14th Street\, Oxford
UID:e.1330.1518
SEQUENCE:3
DTSTAMP:20260426T041843Z
URL:https://business.oxfordms.com/events/details/flying-tuk-ribbon-cutting-ceremony-05-09-2017-1518
END:VEVENT

END:VCALENDAR
