BEGIN:VCALENDAR
VERSION:2.0
PRODID:-//ChamberMaster//Event Calendar 2.0//EN
METHOD:PUBLISH
X-PUBLISHED-TTL:P3D
REFRESH-INTERVAL:P3D
CALSCALE:GREGORIAN
BEGIN:VEVENT
DTSTART:20190917T230000Z
DTEND:20190918T020000Z
X-MICROSOFT-CDO-ALLDAYEVENT:FALSE
SUMMARY:Food Film Festival
DESCRIPTION:The festival will be held at the Old Armory Pavilion on September 17\, 2019 following the Oxford Community Market.
X-ALT-DESC;FMTTYPE=text/html:<span style="color: rgb(59\, 59\, 59)\; font-family: georgia\,serif\; font-size: 15px\;">The festival will be held at the Old Armory Pavilion on September 17\, 2019 following the Oxford Community Market. </span>
LOCATION:Old Armory Pavilion
UID:e.1330.3107
SEQUENCE:3
DTSTAMP:20260424T053302Z
URL:https://business.oxfordms.com/events/details/food-film-festival-09-17-2019-3107
END:VEVENT

END:VCALENDAR
