BEGIN:VCALENDAR
VERSION:2.0
PRODID:-//ChamberMaster//Event Calendar 2.0//EN
METHOD:PUBLISH
X-PUBLISHED-TTL:P3D
REFRESH-INTERVAL:P3D
CALSCALE:GREGORIAN
BEGIN:VEVENT
DTSTART:20220408T160000Z
DTEND:20220408T160000Z
X-MICROSOFT-CDO-ALLDAYEVENT:FALSE
SUMMARY:Free Expungement Clinic
DESCRIPTION:There will be a free expungement clinic in Oxford\, Mississippi to assist individuals with representing themselves in expunging their criminal records. The event is being hosted by the Mississippi Volunteer Lawyers Project\, Butler Snow\, Ole Miss School of Law's Black Law Student Association\, Mississippi Center for Justice\, and the Public Interest Law Association. Individuals will receive legal court documents prepared by licensed Mississippi attorneys or supervised law students. Legal advice will be given to participants who may not qualify for services. The event will be held at the Lafayette Justice Center in the Lafayette County Business Complex in Oxford\, Mississippi. The legal clinics are open to the public\; however\, interested participants must register online at www.mvlp.org/clinics or contact MVLP at 601-882-5001 to find out if they are eligible for services and to schedule an appointment. Individuals seeking an expungement must bring their abstract (municipal/justice court)\, sentencing order (circuit court)\, indictment\, Capias and discharge document. EXPUNGEMENT PARTICIPANTS WILL NOT BE ABLE TO RECEIVE SERVICES IF THE PROPER DOCUMENTS ARE NOT OBTAINED PRIOR TO THE CLINIC.
X-ALT-DESC;FMTTYPE=text/html:There will be a free expungement clinic in Oxford\, Mississippi to assist individuals with representing themselves in expunging their criminal records. The event is being hosted by the Mississippi Volunteer Lawyers Project\, Butler Snow\, Ole Miss School of Law&rsquo\;s Black Law Student Association\, Mississippi Center for Justice\, and the Public Interest Law Association. Individuals will receive legal court documents prepared by licensed Mississippi attorneys or supervised law students. Legal advice will be given to participants who may not qualify for services. The event will be held at the Lafayette Justice Center in the Lafayette County Business Complex in Oxford\, Mississippi. The legal clinics are open to the public\; however\, interested participants must register online at www.mvlp.org/clinics or contact MVLP at 601-882-5001 to find out if they are eligible for services and to schedule an appointment. Individuals seeking an expungement must bring their abstract (municipal/justice court)\, sentencing order (circuit court)\, indictment\, Capias and discharge document. EXPUNGEMENT PARTICIPANTS WILL NOT BE ABLE TO RECEIVE SERVICES IF THE PROPER DOCUMENTS ARE NOT OBTAINED PRIOR TO THE CLINIC.
LOCATION:Lafayette Justice Center 72 F.D. Buddy East Parkway Oxford\, MS 38655
UID:e.1330.4160
SEQUENCE:3
DTSTAMP:20260421T163518Z
URL:https://business.oxfordms.com/events/details/free-expungement-clinic-4160
END:VEVENT

END:VCALENDAR
