BEGIN:VCALENDAR
VERSION:2.0
PRODID:-//ChamberMaster//Event Calendar 2.0//EN
METHOD:PUBLISH
X-PUBLISHED-TTL:P3D
REFRESH-INTERVAL:P3D
CALSCALE:GREGORIAN
BEGIN:VEVENT
DTSTART;VALUE=DATE:20181207
DTEND;VALUE=DATE:20181213
TRANSP:TRANSPARENT
X-MICROSOFT-CDO-ALLDAYEVENT:TRUE
SUMMARY:Free Glass Recycling - Fill the Truck
DESCRIPTION:Free Glass Recycling - Fill the truck event for all businesses and resident\n\nWednesday\, December 12\, 2018 2:00pm - 6:00pm \n\nThe Old Armory Pavilion \n\nHosted by: Door2Door Recycling and City of Oxford
X-ALT-DESC;FMTTYPE=text/html:<p>Free Glass Recycling - Fill the truck event for all businesses and resident</p>\n\n<p><em>Wednesday\, December 12\, 2018 2:00pm - 6:00pm </em></p>\n\n<p><em>The Old Armory Pavilion </em></p>\n\n<p><em>Hosted by: Door2Door Recycling and City of Oxford </em></p>\n
LOCATION:The Old Armory Pavilion
UID:e.1330.2861
SEQUENCE:3
DTSTAMP:20260424T192549Z
URL:https://business.oxfordms.com/events/details/free-glass-recycling-fill-the-truck-12-07-2018-2861
END:VEVENT

END:VCALENDAR
