BEGIN:VCALENDAR
VERSION:2.0
PRODID:-//ChamberMaster//Event Calendar 2.0//EN
METHOD:PUBLISH
X-PUBLISHED-TTL:P3D
REFRESH-INTERVAL:P3D
CALSCALE:GREGORIAN
BEGIN:VEVENT
DTSTART:20180920T213000Z
DTEND:20180920T220000Z
X-MICROSOFT-CDO-ALLDAYEVENT:FALSE
SUMMARY:Frye Reeves Ribbon Cutting Ceremony
DESCRIPTION:Frye Reeves\, PLLC will celebrate their new partnership in Oxford with a Ribbon Cutting Ceremony hosted by the Oxford-Lafayette County Chamber.\n\n\n\nFrye Reeves operates a full-service Mississippi law firm\, representing clients in both criminal defense and civil litigation. They are committed to delivering first-class\, professional and cost-efficient representation\, and offer a comprehensive team approach in every matter we handle. Their attorneys have extensive experience in defending persons accused of crimes   including misdemeanor (DUI\, Paraphernalia\, Minor in Possession\, Fake ID\, etc.) and felony charges (assault\, possession or sale of a controlled substance\, etc.). They frequently provide risk management services to individuals and businesses\, including situations where they have been victims of a crime. Their team of attorneys help start and grow businesses\, have expertise in protecting intellectual property and handle a broad range of litigation needs.
X-ALT-DESC;FMTTYPE=text/html:Frye Reeves\, PLLC&nbsp\;will celebrate their&nbsp\;new&nbsp\;partnership&nbsp\;in Oxford with a&nbsp\;Ribbon Cutting Ceremony hosted by the Oxford-Lafayette County Chamber.<br />\n<br />\nFrye Reeves operates a full-service Mississippi law firm\, representing clients in both criminal defense and civil litigation.&nbsp\;They are committed to delivering first-class\, professional and cost-efficient representation\, and offer a comprehensive team approach in every matter we handle.&nbsp\;Their attorneys have extensive experience in defending persons accused of crimes &ndash\; including misdemeanor (DUI\, Paraphernalia\, Minor in Possession\, Fake ID\, etc.) and felony charges (assault\, possession or sale of a controlled substance\, etc.). They frequently provide risk management services to individuals and businesses\, including situations where they have been victims of a crime. Their team of attorneys help start and grow businesses\, have expertise in protecting intellectual property and handle a broad range of litigation needs.<br />\n&nbsp\;
LOCATION:1100 Tyler Suite 101
UID:e.1330.2782
SEQUENCE:3
DTSTAMP:20260425T021341Z
URL:https://business.oxfordms.com/events/details/frye-reeves-ribbon-cutting-ceremony-09-20-2018-2782
END:VEVENT

END:VCALENDAR
