BEGIN:VCALENDAR
VERSION:2.0
PRODID:-//ChamberMaster//Event Calendar 2.0//EN
METHOD:PUBLISH
X-PUBLISHED-TTL:P3D
REFRESH-INTERVAL:P3D
CALSCALE:GREGORIAN
BEGIN:VEVENT
DTSTART:20181031T190000Z
DTEND:20181031T193000Z
X-MICROSOFT-CDO-ALLDAYEVENT:FALSE
SUMMARY:Gamerz Den Oxford Grand Opening & Ribbon Cutting
DESCRIPTION:Gamerz Den Oxford will celebrate their new business in Oxford with a Grand Opening & Ribbon Cutting Ceremony hosted by the Oxford-Lafayette County Chamber.\n\n\n\n\n\nGamerz Den Oxford is a place where game enthusiasts will have a new spot to play and shop in Oxford. The store has a wide selection of tabletop\, board and trading card games\, including Magic: The Gathering\, Dungeons and Dragons\, Pathfinder\, Munchkin\, Warhammer 40K and more. What's not currently in the store can be ordered and received within a couple of days.
X-ALT-DESC;FMTTYPE=text/html:Gamerz Den Oxford&nbsp\;will celebrate their&nbsp\;new business&nbsp\;in Oxford with a&nbsp\;Grand Opening &amp\; Ribbon Cutting Ceremony hosted by the Oxford-Lafayette County Chamber.<br />\n<br />\n<br />\nGamerz Den Oxford is a place where game enthusiasts will have a new spot to play and shop in Oxford. The store has a wide selection of tabletop\, board and trading card games\, including Magic: The Gathering\, Dungeons and Dragons\, Pathfinder\, Munchkin\, Warhammer 40K and more. What&rsquo\;s not currently in the store can be ordered and received within a couple of days.
LOCATION:303 Heritage Drive\, Oxford\, MS
UID:e.1330.2790
SEQUENCE:3
DTSTAMP:20260424T225320Z
URL:https://business.oxfordms.com/events/details/gamerz-den-oxford-grand-opening-ribbon-cutting-10-31-2018-2790
END:VEVENT

END:VCALENDAR
