BEGIN:VCALENDAR
VERSION:2.0
PRODID:-//ChamberMaster//Event Calendar 2.0//EN
METHOD:PUBLISH
X-PUBLISHED-TTL:P3D
REFRESH-INTERVAL:P3D
CALSCALE:GREGORIAN
BEGIN:VEVENT
DTSTART:20181129T220000Z
DTEND:20181129T223000Z
X-MICROSOFT-CDO-ALLDAYEVENT:FALSE
SUMMARY:Gifts By KPEP Grand Opening & Ribbon Cutting Ceremony
DESCRIPTION:Gifts By KPEP will celebrate their new business in Oxford with a Grand Opening & Ribbon Cutting Ceremony hosted by the Oxford-Lafayette County Chamber.\n\n\n\nGifts by KPEP is a boutique for personalized and unique gifts! Stationery\, home decor\, baby gifts\, monogramming\, gift wrapping and so much more!
X-ALT-DESC;FMTTYPE=text/html:Gifts By KPEP will celebrate their&nbsp\;new business&nbsp\;in Oxford with a Grand Opening &amp\; Ribbon Cutting Ceremony hosted by the Oxford-Lafayette County Chamber.<br />\n<br />\nGifts by KPEP is a boutique for personalized and unique gifts! Stationery\, home decor\, baby gifts\, monogramming\, gift wrapping and so much more!
LOCATION:102 South Lamar Court Oxford\, MS
UID:e.1330.2860
SEQUENCE:3
DTSTAMP:20260424T211133Z
URL:https://business.oxfordms.com/events/details/gifts-by-kpep-grand-opening-ribbon-cutting-ceremony-11-29-2018-2860
END:VEVENT

END:VCALENDAR
