BEGIN:VCALENDAR
VERSION:2.0
PRODID:-//ChamberMaster//Event Calendar 2.0//EN
METHOD:PUBLISH
X-PUBLISHED-TTL:P3D
REFRESH-INTERVAL:P3D
CALSCALE:GREGORIAN
BEGIN:VEVENT
DTSTART:20180926T230000Z
DTEND:20180927T010000Z
X-MICROSOFT-CDO-ALLDAYEVENT:FALSE
SUMMARY:GRADUATE HOTELS® PRESENTS CLEO WADE’S COURAGEOUS LOVE TOUR
DESCRIPTION:Graduate Hotels  Presents Cleo Wade's Courageous Love Tour: Creating a Braver Connection with Yourself and Your Community. Join poet and activist Cleo Wade for community-building events centered around connecting more deeply with yourself and the people around you. All events are open to the public. Please bring a notebook and pen\, we will also have notebooks available for purchase on site.
X-ALT-DESC;FMTTYPE=text/html:Graduate Hotels&reg\; Presents Cleo Wade&rsquo\;s Courageous Love Tour: Creating a Braver Connection with Yourself and Your Community. Join poet and activist Cleo Wade for community-building events centered around connecting more deeply with yourself and the people around you. All events are open to the public. Please bring a notebook and pen\, we will also have notebooks available for purchase on site.
LOCATION:Graduate Oxford 400 N Lamar Blvd
UID:e.1330.2787
SEQUENCE:3
DTSTAMP:20260425T004002Z
URL:https://business.oxfordms.com/events/details/graduate-hotels-presents-cleo-wade-s-courageous-love-tour-09-26-2018-2787
END:VEVENT

END:VCALENDAR
