BEGIN:VCALENDAR
VERSION:2.0
PRODID:-//ChamberMaster//Event Calendar 2.0//EN
METHOD:PUBLISH
X-PUBLISHED-TTL:P3D
REFRESH-INTERVAL:P3D
CALSCALE:GREGORIAN
BEGIN:VEVENT
DTSTART:20181111T170000Z
DTEND:20181111T230000Z
X-MICROSOFT-CDO-ALLDAYEVENT:FALSE
SUMMARY:GREAT CLIPS OFFERING FREE HAIRCUTS FOR VETERANS
DESCRIPTION:Great Clips will be giving FREE HAIRCUTS to veterans on Veteran's Day\, Sunday\, November 11\, 2018.  Please spread the word!  This is our favorite day of the year!! No appointment needed.
X-ALT-DESC;FMTTYPE=text/html:Great Clips will be giving FREE HAIRCUTS to veterans on Veteran&#39\;s Day\, Sunday\, November 11\, 2018.&nbsp\; Please spread the word!&nbsp\; This is our favorite day of the year!! No appointment needed.
LOCATION:5338 Goodman Rd\, Suite 125\, Olive Branch\, MS 38654
UID:e.1330.2789
SEQUENCE:3
DTSTAMP:20260424T210826Z
URL:https://business.oxfordms.com/events/details/great-clips-offering-free-haircuts-for-veterans-11-11-2018-2789
END:VEVENT

END:VCALENDAR
