BEGIN:VCALENDAR
VERSION:2.0
PRODID:-//ChamberMaster//Event Calendar 2.0//EN
METHOD:PUBLISH
X-PUBLISHED-TTL:P3D
REFRESH-INTERVAL:P3D
CALSCALE:GREGORIAN
BEGIN:VEVENT
DTSTART:20171117T170000Z
DTEND:20171117T173000Z
X-MICROSOFT-CDO-ALLDAYEVENT:FALSE
SUMMARY:Great Clips Ribbon Cutting Ceremony
DESCRIPTION:Great Clips will celebrate their new business in Oxford with a Ribbon Cutting Ceremony hosted by the Oxford-Lafayette County Chamber. Great Clips offers high-quality haircuts for men\, women\, and children. They provide convenience with their own app for check-in\, experience\, and great customer service at an affordable price point.
X-ALT-DESC;FMTTYPE=text/html:Great Clips will celebrate their&nbsp\;new business&nbsp\;in Oxford with a&nbsp\;Ribbon Cutting Ceremony hosted by the Oxford-Lafayette County Chamber. Great Clips offers high-quality haircuts for men\, women\, and children. They provide convenience with their own app for check-in\, experience\, and great customer service at an affordable price point.<br />\n&nbsp\;
LOCATION:1801 W Jackson Ave.\, Oxford\, MS
UID:e.1330.1842
SEQUENCE:3
DTSTAMP:20260425T165449Z
URL:https://business.oxfordms.com/events/details/great-clips-ribbon-cutting-ceremony-11-17-2017-1842
END:VEVENT

END:VCALENDAR
