BEGIN:VCALENDAR
VERSION:2.0
PRODID:-//ChamberMaster//Event Calendar 2.0//EN
METHOD:PUBLISH
X-PUBLISHED-TTL:P3D
REFRESH-INTERVAL:P3D
CALSCALE:GREGORIAN
BEGIN:VEVENT
DTSTART:20180407T200000Z
DTEND:20180407T230000Z
X-MICROSOFT-CDO-ALLDAYEVENT:FALSE
SUMMARY:Grove Bowl Crawfish Boil
DESCRIPTION:The Red & Blue Game means Football Season is approaching soon\, and what better way to celebrate than an all you can eat Crawfish Boil! Join us on the Cabin 82 patio after the game to keep the party going! For just $20 you get to eat all the Crawfish you want\, plus we will be serving $2 beers and $5 Bloody Marys all day.
X-ALT-DESC;FMTTYPE=text/html:The Red &amp\; Blue Game means Football Season is approaching soon\, and what better way to celebrate than an all you can eat Crawfish Boil! Join us on the Cabin 82 patio after the game to keep the party going! For just $20 you get to eat all the Crawfish you want\, plus we will be serving $2 beers and $5 Bloody Marys all day.
LOCATION:Graduate Oxford
UID:e.1330.1876
SEQUENCE:3
DTSTAMP:20260425T104418Z
URL:https://business.oxfordms.com/events/details/grove-bowl-crawfish-boil-04-07-2018-1876
END:VEVENT

END:VCALENDAR
