BEGIN:VCALENDAR
VERSION:2.0
PRODID:-//ChamberMaster//Event Calendar 2.0//EN
METHOD:PUBLISH
X-PUBLISHED-TTL:P3D
REFRESH-INTERVAL:P3D
CALSCALE:GREGORIAN
BEGIN:VEVENT
DTSTART:20181217T140000Z
DTEND:20181221T230000Z
X-MICROSOFT-CDO-ALLDAYEVENT:FALSE
SUMMARY:Holiday Art Camp for Preschoolers
DESCRIPTION:This camp is geared just for preschoolers out of school early fo rthe holidays. We will make art and crafts based on holiday traditions around the world. Full day campers are advised to bring a lunch and nap mat for the afternoon movie/rest time. Prices range from $100 half day sessions to $185 full day for the week.
X-ALT-DESC;FMTTYPE=text/html:This camp is geared just for preschoolers out of school early fo rthe holidays. We will make art and crafts based on holiday traditions around the world. Full day campers are advised to bring a lunch and nap mat for the afternoon movie/rest time. Prices range from $100 half day sessions to $185 full day for the week.&nbsp\;
LOCATION:This event will be held at the Powerhouse.
UID:e.1330.2858
SEQUENCE:3
DTSTAMP:20260424T192537Z
URL:https://business.oxfordms.com/events/details/holiday-art-camp-for-preschoolers-12-17-2018-2858
END:VEVENT

END:VCALENDAR
