BEGIN:VCALENDAR
VERSION:2.0
PRODID:-//ChamberMaster//Event Calendar 2.0//EN
METHOD:PUBLISH
X-PUBLISHED-TTL:P3D
REFRESH-INTERVAL:P3D
CALSCALE:GREGORIAN
BEGIN:VEVENT
DTSTART:20220613T130000Z
DTEND:20220613T143000Z
X-MICROSOFT-CDO-ALLDAYEVENT:FALSE
SUMMARY:Hollywood Feed University Presents Free\, Online Course on Pet First Aid
DESCRIPTION:Hollywood Feed University invites you to attend an upcoming free\, virtual course\, "How to Be a Muttgyver." Join us as we hear from Pet Health and Safety Coach Arden Moore about how pet parents can unleash their inner Muttgyvers and use items in the home to provide on-the-scene first aid and to safely transport the pet to the veterinary clinic. The course is available on Monday June 13 at 8:00 a.m.\, 12:00p.m.\, and 5:00 p.m. Central Time. You'll receive a 20% coupon for your next transaction if you attend. Can't attend the class? You will still receive the recording if you register. Sign up today at: https://hfu.hollywoodfeed.com/live-event-page/how-to-be-a-muttgyver/
X-ALT-DESC;FMTTYPE=text/html:Hollywood Feed University invites you to attend an upcoming free\, virtual course\, &quot\;How to Be a Muttgyver.&quot\; Join us as we hear from Pet Health and Safety Coach Arden Moore about how pet parents can unleash their inner Muttgyvers and use items in the home to provide on-the-scene first aid and to safely transport the pet to the veterinary clinic. The course is available on Monday June 13 at 8:00 a.m.\, 12:00p.m.\, and 5:00 p.m. Central Time. You&#39\;ll receive a 20% coupon for your next transaction if you attend. Can&#39\;t attend the class? You will still receive the recording if you register. Sign up today at: https://hfu.hollywoodfeed.com/live-event-page/how-to-be-a-muttgyver/
LOCATION:Online
UID:e.1330.4172
SEQUENCE:3
DTSTAMP:20260421T132207Z
URL:https://business.oxfordms.com/events/details/hollywood-feed-university-presents-free-online-course-on-pet-first-aid-4172
END:VEVENT

END:VCALENDAR
