BEGIN:VCALENDAR
VERSION:2.0
PRODID:-//ChamberMaster//Event Calendar 2.0//EN
METHOD:PUBLISH
X-PUBLISHED-TTL:P3D
REFRESH-INTERVAL:P3D
CALSCALE:GREGORIAN
BEGIN:VEVENT
DTSTART:20180411T180000Z
DTEND:20180413T010000Z
X-MICROSOFT-CDO-ALLDAYEVENT:FALSE
SUMMARY:Home Builders of North Central Crawfish Boil/Drawdown
DESCRIPTION:Home Builders Association of North Central's 2nd annual crawfish boil/drawdown.  \n\n\n\nDrawdown tickets are $25 each or 5 tickets for $100\n\n\n\nYou can buy tickets at the door or contact Kim Jent at 601-969-3446 or kjent@hbam.com.
X-ALT-DESC;FMTTYPE=text/html:<span style="font-size: 18px\;"><span style="font-family: comic sans ms\;"><span style="color: rgb(178\, 34\, 34)\;">Home Builders Association of North Central&#39\;s 2nd annual crawfish boil/drawdown</span>.&nbsp\;&nbsp\;</span></span><br />\n<br />\n<span style="font-family: comic sans ms\;"><span style="font-size: 20px\;">Drawdown tickets are $25 each or 5 tickets for $100</span></span><br />\n<br />\n<span style="font-family: comic sans ms\;"><span style="font-size: 18px\;">You can buy tickets at the door or contact Kim Jent at 601-969-3446 or kjent@hbam.com.&nbsp\;</span></span>
LOCATION:The Round Table 132 Courthouse Square Oxford\, MS 39655
UID:e.1330.1877
SEQUENCE:3
DTSTAMP:20260425T103851Z
URL:https://business.oxfordms.com/events/details/home-builders-of-north-central-crawfish-boil-drawdown-04-11-2018-1877
END:VEVENT

END:VCALENDAR
