BEGIN:VCALENDAR
VERSION:2.0
PRODID:-//ChamberMaster//Event Calendar 2.0//EN
METHOD:PUBLISH
X-PUBLISHED-TTL:P3D
REFRESH-INTERVAL:P3D
CALSCALE:GREGORIAN
BEGIN:VEVENT
DTSTART:20181004T210000Z
DTEND:20181004T230000Z
X-MICROSOFT-CDO-ALLDAYEVENT:FALSE
SUMMARY:Home-Land Title Ribbon Cutting Ceremony
DESCRIPTION:Home-Land Title will celebrate their new business in Oxford with a Ribbon Cutting Ceremony hosted by the Oxford-Lafayette County Chamber.\n\n\n\nHome-Land Title provides residential and commercial real estate services throughout the state of Mississippi and Louisiana. Its owners and the corporation are proud to be residents of the state of Mississippi. Home-Land Title was formed in 1972 by Wendell Agee and was built on the principles of prompt and accurate services. If you are buying\, selling\, or refinancing your property\, let us handle your entire closing process.
X-ALT-DESC;FMTTYPE=text/html:Home-Land Title&nbsp\;will celebrate their&nbsp\;new business&nbsp\;in Oxford with a&nbsp\;Ribbon Cutting Ceremony hosted by the Oxford-Lafayette County Chamber.<br />\n<br />\n<span style="font-family: helvetica-w01-light\,helvetica-w02-light\,sans-serif\;"><span class="color_2">Home-Land Title provides residential and commercial real estate services throughout the state of Mississippi and Louisiana. Its owners and the corporation are proud to be residents of the state of Mississippi. Home-Land Title was formed in 1972 by Wendell Agee&nbsp\;and was built on the principles of prompt and accurate services. If you are buying\, selling\, or refinancing your property\, let us handle your entire closing process.&nbsp\;</span></span><br />\n&nbsp\;
LOCATION:507 Heritage Drive Suite 102
UID:e.1330.2783
SEQUENCE:3
DTSTAMP:20260424T225034Z
URL:https://business.oxfordms.com/events/details/home-land-title-ribbon-cutting-ceremony-10-04-2018-2783
END:VEVENT

END:VCALENDAR
