BEGIN:VCALENDAR
VERSION:2.0
PRODID:-//ChamberMaster//Event Calendar 2.0//EN
METHOD:PUBLISH
X-PUBLISHED-TTL:P3D
REFRESH-INTERVAL:P3D
CALSCALE:GREGORIAN
BEGIN:VEVENT
DTSTART:20171106T220000Z
DTEND:20171106T223000Z
X-MICROSOFT-CDO-ALLDAYEVENT:FALSE
SUMMARY:Home2Suites Ribbon Cutting Ceremony
DESCRIPTION:Home2Suites will celebrate their new business in Oxford with a Ribbon Cutting Ceremony hosted by the Oxford-Lafayette County Chamber. Home2Suites is an extended stay hotel that makes you feel right at home with plenty of amenities to make travel easy and fun.
X-ALT-DESC;FMTTYPE=text/html:Home2Suites will celebrate their&nbsp\;new business&nbsp\;in Oxford with a&nbsp\;Ribbon Cutting Ceremony hosted by the Oxford-Lafayette County Chamber. Home2Suites is an&nbsp\;extended stay hotel that&nbsp\;makes you feel right at home with plenty of amenities to make travel easy and fun.
LOCATION:101 South Lamar Court\, Oxford\, MS
UID:e.1330.1835
SEQUENCE:3
DTSTAMP:20260425T165443Z
URL:https://business.oxfordms.com/events/details/home2suites-ribbon-cutting-ceremony-11-06-2017-1835
END:VEVENT

END:VCALENDAR
