BEGIN:VCALENDAR
VERSION:2.0
PRODID:-//ChamberMaster//Event Calendar 2.0//EN
METHOD:PUBLISH
X-PUBLISHED-TTL:P3D
REFRESH-INTERVAL:P3D
CALSCALE:GREGORIAN
BEGIN:VEVENT
DTSTART:20170811T180000Z
DTEND:20170811T183000Z
X-MICROSOFT-CDO-ALLDAYEVENT:FALSE
SUMMARY:Hotty Toddy Tan Blowouts & Beauty Bar Ribbon Cutting Ceremony
DESCRIPTION:Hotty Toddy Tan Blowouts & Beauty Bar will celebrate their new business in Oxford with a Ribbon Cutting Ceremony hosted by the Oxford-Lafayette County Chamber. Mississippi native\, Keely Williams owner of Hotty Toddy Tan Blowouts & Beauty Bar\, left for Los Angeles to fulfill her dreams in the entertainment industry.  She appeared in numerous T.V. shows and modeled for magazines like Glamour magazine\, en Francais.  She also sang background vocals for groups like Gnarls Barkley at the Grammys and did television hosting for LA's Fashion Week and ETV's Daily 10.
X-ALT-DESC;FMTTYPE=text/html:<span style="font-size:12px\;"><span style="font-family: arial\;">Hotty Toddy Tan Blowouts &amp\; Beauty Bar will celebrate their&nbsp\;new business in Oxford with a&nbsp\;Ribbon Cutting Ceremony hosted by the Oxford-Lafayette County Chamber. <span style="color: rgb(0\, 0\, 0)\; font-style: normal\; font-variant-ligatures: normal\; font-variant-caps: normal\; font-weight: normal\; letter-spacing: normal\; text-align: left\; text-indent: 0px\; text-transform: none\; white-space: normal\; word-spacing: 0px\; -webkit-text-stroke-width: 0px\; background-color: rgb(255\, 255\, 255)\; text-decoration-style: initial\; text-decoration-color: initial\; display: inline !important\; float: none\;">Mississippi native\, Keely Williams owner of Hotty Toddy Tan Blowouts &amp\; Beauty Bar\, left for Los Angeles to fulfill her dreams in the entertainment industry. &nbsp\;She appeared in numerous T.V. shows and modeled for magazines like Glamour magazine\, en Francais.&nbsp\; She also sang background vocals for groups like Gnarls Barkley at the Grammys and did television hosting for LA&rsquo\;s Fashion Week and ETV&rsquo\;s Daily 10. </span></span></span>
LOCATION:3000 Old Taylor Road\, Suite B Oxford
UID:e.1330.1785
SEQUENCE:3
DTSTAMP:20260425T215901Z
URL:https://business.oxfordms.com/events/details/hotty-toddy-tan-blowouts-beauty-bar-ribbon-cutting-ceremony-08-11-2017-1785
END:VEVENT

END:VCALENDAR
