BEGIN:VCALENDAR
VERSION:2.0
PRODID:-//ChamberMaster//Event Calendar 2.0//EN
METHOD:PUBLISH
X-PUBLISHED-TTL:P3D
REFRESH-INTERVAL:P3D
CALSCALE:GREGORIAN
BEGIN:VEVENT
DTSTART:20180420T203000Z
DTEND:20180420T210000Z
X-MICROSOFT-CDO-ALLDAYEVENT:FALSE
SUMMARY:HOTWORX One Year Anniversary Ceremony
DESCRIPTION:HOTWORX will celebrate their business in Oxford with a One Year Anniversary Ceremony hosted by the Oxford-Lafayette County Chamber. HOTWORX is a virtually instructed exercise program created for users to experience the many benefits of infrared heat absorption\, while completing a 30-minute isometric workout or 15-min High Intensity Interval Training (HIIT) session.
X-ALT-DESC;FMTTYPE=text/html:HOTWORX will celebrate their business in Oxford with a One Year Anniversary Ceremony hosted by the Oxford-Lafayette County Chamber. HOTWORX is a virtually instructed exercise program created for users to experience the many benefits of infrared heat absorption\, while completing a 30-minute isometric workout or 15-min High Intensity Interval Training (HIIT) session.
LOCATION:916 E. Jackson Ave Oxford MS
UID:e.1330.1881
SEQUENCE:3
DTSTAMP:20260425T105817Z
URL:https://business.oxfordms.com/events/details/hotworx-one-year-anniversary-ceremony-04-20-2018-1881
END:VEVENT

END:VCALENDAR
