BEGIN:VCALENDAR
VERSION:2.0
PRODID:-//ChamberMaster//Event Calendar 2.0//EN
METHOD:PUBLISH
X-PUBLISHED-TTL:P3D
REFRESH-INTERVAL:P3D
CALSCALE:GREGORIAN
BEGIN:VEVENT
DTSTART:20190214T230000Z
DTEND:20190215T010000Z
X-MICROSOFT-CDO-ALLDAYEVENT:FALSE
SUMMARY:How Sweet It Is Chamber After Hours hosted by The Inn at Ole Miss
DESCRIPTION:Monthly Chamber After Hours is a networking opportunity for our Chamber of Commerce members. New Chamber members are introduced and given a chance to highlight their businesses.  Hosting opportunities are available exclusively to Chamber members.
X-ALT-DESC;FMTTYPE=text/html:<p style="margin: 0in 0in 6pt\;"><span style="font-size: 12px\;"><span style="font-family: arial\;">Monthly Chamber After Hours is a&nbsp\;networking&nbsp\;opportunity for our Chamber of Commerce members. New Chamber members are&nbsp\;introduced and given a chance to highlight their businesses.&nbsp\; Hosting opportunities are available exclusively to Chamber members.</span></span></p>\n
LOCATION:This month's After Hours is hosted by The Inn at Ole Miss located at 120 Alumni Drive.
UID:e.1330.3076
SEQUENCE:3
DTSTAMP:20260424T154414Z
URL:https://business.oxfordms.com/events/details/how-sweet-it-is-chamber-after-hours-hosted-by-the-inn-at-ole-miss-02-14-2019-3076
END:VEVENT

END:VCALENDAR
