BEGIN:VCALENDAR
VERSION:2.0
PRODID:-//ChamberMaster//Event Calendar 2.0//EN
METHOD:PUBLISH
X-PUBLISHED-TTL:P3D
REFRESH-INTERVAL:P3D
CALSCALE:GREGORIAN
BEGIN:VEVENT
DTSTART:20180926T210000Z
DTEND:20180926T213000Z
X-MICROSOFT-CDO-ALLDAYEVENT:FALSE
SUMMARY:Jay For Mississippi Open House & Ribbon Cutting Ceremony
DESCRIPTION:Jay Hughes is celebrating with an Open House & Ribbon Cutting Ceremony for his campaign office hosted by the Oxford-Lafayette County Chamber.\n\n\n\nJay Hughes is a Christian\, husband\, father\, military veteran\, gun owner\, pro-public education\, and anti-government waste\, and is willing to fight for what is just and right. He is running for Mississippi's next Lieutenant Governor.
X-ALT-DESC;FMTTYPE=text/html:Jay Hughes is celebrating&nbsp\;with an Open House&nbsp\;&amp\; Ribbon Cutting Ceremony for his campaign office hosted by the Oxford-Lafayette County Chamber.<br />\n<br />\nJay Hughes is a&nbsp\;Christian\, husband\, father\, military veteran\, gun owner\, pro-public education\, and anti-government waste\, and&nbsp\;is willing to fight for what is just and right. He is running for Mississippi&#39\;s next&nbsp\;Lieutenant Governor. &nbsp\;<br />\n&nbsp\;
LOCATION:2209 S. Lamar Blvd.
UID:e.1330.2784
SEQUENCE:3
DTSTAMP:20260425T003945Z
URL:https://business.oxfordms.com/events/details/jay-for-mississippi-open-house-ribbon-cutting-ceremony-09-26-2018-2784
END:VEVENT

END:VCALENDAR
