BEGIN:VCALENDAR
VERSION:2.0
PRODID:-//ChamberMaster//Event Calendar 2.0//EN
METHOD:PUBLISH
X-PUBLISHED-TTL:P3D
REFRESH-INTERVAL:P3D
CALSCALE:GREGORIAN
BEGIN:VEVENT
DTSTART:20190627T230000Z
DTEND:20190628T020000Z
X-MICROSOFT-CDO-ALLDAYEVENT:FALSE
SUMMARY:Jazz Under the Stars
DESCRIPTION:A Mississippi Society of Disabilities Fundraiser for Accessible Playground Equipment at Bailey Branch Park in Oxford. North Mississippi Symphony Orchestra will perform. There will be door prizes\, face painting\, food trucks\, outdoor play & Disney character appearances. The whole family is welcome! #PlayWithoutBarriers fundraiser
X-ALT-DESC;FMTTYPE=text/html:A Mississippi Society of Disabilities Fundraiser for Accessible Playground Equipment at Bailey Branch Park in Oxford. North Mississippi Symphony Orchestra will perform. There will be door prizes\, face painting\, food trucks\, outdoor play &amp\; Disney character appearances. The whole family is welcome! #PlayWithoutBarriers fundraiser
LOCATION:Old Armory Pavilion 1801 University Ave. Oxford\, MS 38655
UID:e.1330.3112
SEQUENCE:3
DTSTAMP:20260424T090058Z
URL:https://business.oxfordms.com/events/details/jazz-under-the-stars-06-27-2019-3112
END:VEVENT

END:VCALENDAR
