BEGIN:VCALENDAR
VERSION:2.0
PRODID:-//ChamberMaster//Event Calendar 2.0//EN
METHOD:PUBLISH
X-PUBLISHED-TTL:P3D
REFRESH-INTERVAL:P3D
CALSCALE:GREGORIAN
BEGIN:VEVENT
DTSTART:20171019T213000Z
DTEND:20171019T220000Z
X-MICROSOFT-CDO-ALLDAYEVENT:FALSE
SUMMARY:Jimmy Carr- State Farm Insurance Ribbon Cutting Ceremony
DESCRIPTION:Jimmy Carr- State Farm Insurance will celebrate their new business in Oxford with a Ribbon Cutting Ceremony hosted by the Oxford-Lafayette County Chamber. Jimmy Carr- State Farm Insurance offers a variety of services including auto\, home and property insurance.
X-ALT-DESC;FMTTYPE=text/html:Jimmy Carr- State Farm Insurance will celebrate their&nbsp\;new business&nbsp\;in Oxford with a&nbsp\;Ribbon Cutting Ceremony hosted by the Oxford-Lafayette County Chamber. Jimmy Carr- State Farm Insurance offers a variety of services including auto\, home and property insurance.
LOCATION:2153 S. Lamar Blvd
UID:e.1330.1798
SEQUENCE:3
DTSTAMP:20260425T184116Z
URL:https://business.oxfordms.com/events/details/jimmy-carr-state-farm-insurance-ribbon-cutting-ceremony-10-19-2017-1798
END:VEVENT

END:VCALENDAR
