BEGIN:VCALENDAR
VERSION:2.0
PRODID:-//ChamberMaster//Event Calendar 2.0//EN
METHOD:PUBLISH
X-PUBLISHED-TTL:P3D
REFRESH-INTERVAL:P3D
CALSCALE:GREGORIAN
BEGIN:VEVENT
DTSTART;VALUE=DATE:20180201
DTEND;VALUE=DATE:20180401
TRANSP:TRANSPARENT
X-MICROSOFT-CDO-ALLDAYEVENT:TRUE
SUMMARY:Landscaping Camp Early Bird Special Now thru March 31st!
DESCRIPTION:We're Rolling Out The Green Carpet!\n\nLandscaping Camp: May 25-27th\, 2018\n\nTake a personal tour with Jeff McManus\, whose expertise in landscaping has gained The University of Mississippi accolades of being named "The Most Beautiful Campus" by a number of national publications as well in Newsweek 2011 and just recently in USA Today's Readers Choice competition.\n\nDuring this 2   day camp each participant will receive a book written by Jeff McManus at the Opening Dinner and Book Signing. Among  activities one will be able to immerse themselves on a tour of the beautiful Ole Miss Campus\, learn some great practices from industry leaders and attend educational seminars. We're excited to announce our line-up of speakers along with McManus\, Donna Yowell\, Executive Director Mississippi Urban Council\, The Garden Mama\, Nellie Neal\, Radio Host\, Melissa Booth Hall\, managing director of the Southern Foodways Alliance\, Ed Croom\, retired botanist from the University of Mississippi and author of "The Land of Rowan Oak\, An Exploration of Faulkner's Natural Word."\n\nTo top it off tours will also take place on route the famous Double Decker Bus to the beautifully landscaped home of Dickie & Diane Scruggs which is maintained by McManus\, a tour of the grounds of Rowan Oak with Ed Croom as well as a tour of the City Oxford.\n\nTake advantage of our Early Bird Special available for $300 per person now through March 2018 (price does not include hotel accommodations)
X-ALT-DESC;FMTTYPE=text/html:<h1><span style="font-family:arial\;">We&rsquo\;re Rolling Out The Green Carpet!</span></h1>\n\n<h3><span style="font-family:arial\;"><strong>Landscaping Camp: <span class="aBn" data-term="goog_75235062" tabindex="0"><span class="aQJ">May 25-27th\, 2018</span></span></strong></span></h3>\n\n<p><span style="font-size:14px\;"><span style="font-family: arial\;">Take a personal tour with Jeff McManus\, whose expertise in landscaping has gained The University of Mississippi accolades of being named <b>&ldquo\;The Most Beautiful Campus&rdquo\; </b>by a number of national publications as well in Newsweek 2011 and just recently in USA Today&rsquo\;s Readers Choice competition.</span></span></p>\n\n<p><span style="font-size:14px\;"><span style="font-family: arial\;">During this 2 &frac12\; day camp each participant will receive a book written by Jeff McManus at the Opening Dinner and Book Signing. Among&nbsp\; activities one will be able to immerse themselves on a tour of the beautiful Ole Miss Campus\, learn some great practices from industry leaders and attend educational seminars. We&rsquo\;re excited to announce our line-up of speakers along with McManus\, Donna Yowell\, Executive Director Mississippi Urban Council\, The Garden Mama\, Nellie Neal\, Radio Host\, Melissa Booth Hall\, managing director of the Southern Foodways Alliance\, Ed Croom\, retired botanist from the University of Mississippi and author of &ldquo\;The Land of Rowan Oak\, An Exploration of Faulkner&rsquo\;s Natural Word.&rdquo\;</span></span></p>\n\n<p><span style="font-size:14px\;"><span style="font-family: arial\;">To top it off tours will also take place on route the famous Double Decker Bus to the beautifully landscaped home of Dickie &amp\; Diane Scruggs which is maintained by McManus\, a tour of the grounds of Rowan Oak with Ed Croom as well as a tour of the City Oxford.</span></span></p>\n\n<p><span style="font-size:14px\;"><span style="font-family: arial\;">Take advantage of our <strong>Early Bird</strong><b>&nbsp\;Special&nbsp\;</b>available for $300 per person now through March 2018 (price does not include hotel accommodations)</span></span></p>\n\n<p hoefler="" liberation="" new="" style="margin: 0px 0px 1.62rem\; padding: 0px\; border: 0px currentColor\; border-image: none\; color: rgb(30\, 30\, 30)\; text-transform: none\; line-height: 1.425\; text-indent: 0px\; letter-spacing: normal\; font-family: Cambria\,\;" times="">&nbsp\;</p>\n
LOCATION:The Inn at Ole Miss is our host hotel for this event\, located 120 Alumni Drive\, University\, MS 38677
UID:e.1330.1453
SEQUENCE:3
DTSTAMP:20260425T104509Z
URL:https://business.oxfordms.com/events/details/landscaping-camp-early-bird-special-now-thru-march-31st-02-01-2018-1453
END:VEVENT

END:VCALENDAR
