BEGIN:VCALENDAR
VERSION:2.0
PRODID:-//ChamberMaster//Event Calendar 2.0//EN
METHOD:PUBLISH
X-PUBLISHED-TTL:P3D
REFRESH-INTERVAL:P3D
CALSCALE:GREGORIAN
BEGIN:VEVENT
DTSTART:20211118T220000Z
DTEND:20211118T223000Z
X-MICROSOFT-CDO-ALLDAYEVENT:FALSE
SUMMARY:Life Dental Ribbon Cutting Ceremony
DESCRIPTION:The Life Dental will celebrate their new name  and office in Oxford with a Ribbon Cutting Ceremony hosted by the Oxford-Lafayette County Chamber. Patient Care is their Number One Priority. Friendly service & the latest Dental Technology. New name\, new location\, same faces. Now open at our new location. Financing Available. Open Mon-Fri. Request An Appointment.
X-ALT-DESC;FMTTYPE=text/html:The Life Dental will celebrate their&nbsp\;new name &nbsp\;and office in Oxford with a&nbsp\;Ribbon Cutting Ceremony hosted by the Oxford-Lafayette County Chamber. <span style="caret-color: rgb(77\, 81\, 86)\; color: rgb(77\, 81\, 86)\; font-family: arial\, sans-serif\; font-size: 14px\; background-color: rgb(255\, 255\, 255)\;">Patient Care is their Number One Priority. Friendly service &amp\; the latest&nbsp\;</span><span class="hcV4Re nkGKTb" style="font-weight: 800\; caret-color: rgb(77\, 81\, 86)\; color: rgb(77\, 81\, 86)\; font-family: arial\, sans-serif\; font-size: 14px\;">Dental</span><span style="caret-color: rgb(77\, 81\, 86)\; color: rgb(77\, 81\, 86)\; font-family: arial\, sans-serif\; font-size: 14px\; background-color: rgb(255\, 255\, 255)\;">&nbsp\;Technology. New name\, new location\, same faces. Now open at our new location. Financing Available. Open Mon-Fri. Request An Appointment.</span>
LOCATION:2608 South Lamar Blvd. Ste 101
UID:e.1330.4077
SEQUENCE:3
DTSTAMP:20260422T012242Z
URL:https://business.oxfordms.com/events/details/life-dental-ribbon-cutting-ceremony-4077
END:VEVENT

END:VCALENDAR
