BEGIN:VCALENDAR
VERSION:2.0
PRODID:-//ChamberMaster//Event Calendar 2.0//EN
METHOD:PUBLISH
X-PUBLISHED-TTL:P3D
REFRESH-INTERVAL:P3D
CALSCALE:GREGORIAN
BEGIN:VEVENT
DTSTART:20181222T150000Z
DTEND:20181222T220000Z
X-MICROSOFT-CDO-ALLDAYEVENT:FALSE
SUMMARY:Little Elves Workshop
DESCRIPTION:This one-day workshop will keep kids busy making cards\, ornaments\, gift tags and more to get ready for the holidays. An afternoon movie will help break up the day. This will be a great day for parents to shop\, cook or wrap gifts. This event is geared for children ages 3-12\, and they will be grouped according to age. Full day options are $45 and half day options are $30. Full day children are advised to bring a lunch.\n\nhttps://oxfordarts.com/shop/prodcut/849-little-elves-workshop-december-22nd
X-ALT-DESC;FMTTYPE=text/html:This one-day workshop will keep kids busy making cards\, ornaments\, gift tags and more to get ready for the holidays. An afternoon movie will help break up the day. This will be a great day for parents to shop\, cook or wrap gifts. This event is geared for children ages 3-12\, and they will be grouped according to age. Full day options are $45 and half day options are $30. Full day children are advised to bring a lunch.<br />\nhttps://oxfordarts.com/shop/prodcut/849-little-elves-workshop-december-22nd
LOCATION:This event will take place at the Powerhouse.
UID:e.1330.2857
SEQUENCE:3
DTSTAMP:20260424T192046Z
URL:https://business.oxfordms.com/events/details/little-elves-workshop-12-22-2018-2857
END:VEVENT

END:VCALENDAR
