BEGIN:VCALENDAR
VERSION:2.0
PRODID:-//ChamberMaster//Event Calendar 2.0//EN
METHOD:PUBLISH
X-PUBLISHED-TTL:P3D
REFRESH-INTERVAL:P3D
CALSCALE:GREGORIAN
BEGIN:VEVENT
DTSTART:20190201T160000Z
DTEND:20190202T000000Z
X-MICROSOFT-CDO-ALLDAYEVENT:FALSE
SUMMARY:Living Foods 5 Year Anniversary!!!
DESCRIPTION:Come celebrate Living Foods' 5 year anniversary Friday\, February 1!\n\n\n\nSpecials include:\n\n- First 20 people in the door get a free smoothie bowl!\n\n- Avocado Toast $5 ALL DAY (or until we run out of avocados)\n\n- Veggie Burgers $5 from 2-4pm (or until they run out)\n\n- Drawings for Door Prizes from local health/fitness places!\n\n- A portion of our profits from this day will go to Operation Life Vision helping local youth!\n\n\n\nCome see us! ~Melody
X-ALT-DESC;FMTTYPE=text/html:Come celebrate Living Foods&#39\; 5 year anniversary Friday\, February 1!<br />\n<br />\nSpecials include:<br />\n- First 20 people in the door get a free smoothie bowl!<br />\n- Avocado Toast $5 ALL DAY (or until we run out of avocados)<br />\n- Veggie Burgers $5 from 2-4pm (or until they run out)<br />\n- Drawings for Door Prizes from local health/fitness places!<br />\n- A portion of our profits from this day will go to Operation Life Vision helping local youth!<br />\n<br />\nCome see us! ~Melody
LOCATION:Living Foods 809 College Hill Rd. Oxford\, MS (Across from Lost Pizza\, next door to Studio Whimzy)
UID:e.1330.3074
SEQUENCE:3
DTSTAMP:20260424T160124Z
URL:https://business.oxfordms.com/events/details/living-foods-5-year-anniversary-02-01-2019-3074
END:VEVENT

END:VCALENDAR
