BEGIN:VCALENDAR
VERSION:2.0
PRODID:-//ChamberMaster//Event Calendar 2.0//EN
METHOD:PUBLISH
X-PUBLISHED-TTL:P3D
REFRESH-INTERVAL:P3D
CALSCALE:GREGORIAN
BEGIN:VEVENT
DTSTART:20220408T130000Z
DTEND:20220408T140000Z
X-MICROSOFT-CDO-ALLDAYEVENT:FALSE
SUMMARY:Local Resources Meeting
DESCRIPTION:Are you in Human Resources?Join us for a round table discussion with other HR peers to address current issues that are important in your field within our community.
X-ALT-DESC;FMTTYPE=text/html:Are you in Human Resources?Join us for a round table discussion with other HR peers to address current issues that are important in your field within our community.
LOCATION:Oxford-Lafayette County Chamber of Commerce Chamber Board Room 299 Jackson Ave.
UID:e.1330.4161
SEQUENCE:3
DTSTAMP:20260421T163114Z
URL:https://business.oxfordms.com/events/details/local-resources-meeting-4161
END:VEVENT

END:VCALENDAR
