BEGIN:VCALENDAR
VERSION:2.0
PRODID:-//ChamberMaster//Event Calendar 2.0//EN
METHOD:PUBLISH
X-PUBLISHED-TTL:P3D
REFRESH-INTERVAL:P3D
CALSCALE:GREGORIAN
BEGIN:VEVENT
DTSTART:20180119T174500Z
DTEND:20180119T190000Z
X-MICROSOFT-CDO-ALLDAYEVENT:FALSE
SUMMARY:LOU Lead Talks
DESCRIPTION:Please join us as we launch a new series entitled\n\nLOU Lead Talks\n\nPresented by the Oxford-Lafayette County Chamber of Commerce and Chick-Fil-A.\n\n\n\nGuest Speaker: Randy Gravitt\n\nAuthor\, Speaker\, and Life Coach "Self-Leadership. The HEART of Leadership"\n\n\n\nRandy Gravitt is an author\, speaker\, and life coach who spends his time encouraging leaders to reach their potential. Randy has taught high performance leadership to companies and teams all over the world. His audiences are drawn to his encouragement and his motivational style of speaking aimed at bringing about transformation.\n\n \n\nIn 2014 Randy founded INTEGREAT Leadership (integreatleadership.com)\, a company whose mission is to grow a generation of integrity-based leaders. His current work includes training high performance leadership teams for Chick-fil-A\, Inc. and serving as one of the leadership coaches for the Pittsburgh Pirates Organization.
X-ALT-DESC;FMTTYPE=text/html:Please join us as we launch a new series entitled<br />\nLOU Lead Talks<br />\nPresented by the Oxford-Lafayette County Chamber of Commerce and Chick-Fil-A.<br />\n<br />\nGuest Speaker: Randy Gravitt<br />\nAuthor\, Speaker\, and Life Coach &quot\;Self-Leadership. The HEART of Leadership&quot\;<br />\n<br />\nRandy Gravitt is an author\, speaker\, and life coach who spends his time encouraging leaders to reach their potential. Randy has taught high performance leadership to companies and teams all over the world. His audiences are drawn to his encouragement and his motivational style of speaking aimed at bringing about transformation.<br />\n&nbsp\;<br />\nIn 2014 Randy founded INTEGREAT Leadership (integreatleadership.com)\, a company whose mission is to grow a generation of integrity-based leaders. His current work includes training high performance leadership teams for Chick-fil-A\, Inc. and serving as one of the leadership coaches for the Pittsburgh Pirates Organization.<br />\n&nbsp\;<br />\n&nbsp\;
LOCATION:Ballroom at Courtyard Oxford | 305 Jackson Avenue East
UID:e.1330.1854
SEQUENCE:3
DTSTAMP:20260425T133106Z
URL:https://business.oxfordms.com/events/details/lou-lead-talks-01-19-2018-1854
END:VEVENT

END:VCALENDAR
