BEGIN:VCALENDAR
VERSION:2.0
PRODID:-//ChamberMaster//Event Calendar 2.0//EN
METHOD:PUBLISH
X-PUBLISHED-TTL:P3D
REFRESH-INTERVAL:P3D
CALSCALE:GREGORIAN
BEGIN:VEVENT
DTSTART:20180427T140000Z
DTEND:20180427T160000Z
X-MICROSOFT-CDO-ALLDAYEVENT:FALSE
SUMMARY:LOU Lead Talks
DESCRIPTION:Please join us for LOU Lead Talks\n\nPresented by the Oxford-Lafayette County Chamber of Commerce and Chick-fil-A.\n\nGuest Speaker: Dan T Cathy\n\nChairman and Chief Executive Officer Chick-fil-A\n\nAs Chairman and CEO of the nation's largest family-owned business\, Chick-fil-A\, Dan T. Cathy represents the next generation of leadership for the Atlanta- based fast-food chicken restaurant chain founded by his father\, S. Truett Cathy. Eager to incorporate his own skills and talents into the business\, Dan has taken on unconventional\, yet personally and professionally rewarding approach to Chick-fil-A leadership.
X-ALT-DESC;FMTTYPE=text/html:Please join us for LOU Lead Talks<br />\nPresented by the Oxford-Lafayette County Chamber of Commerce and Chick-fil-A.<br />\nGuest Speaker: Dan T Cathy<br />\nChairman and Chief Executive Officer Chick-fil-A<br />\nAs Chairman and CEO of the nation&#39\;s largest family-owned business\, Chick-fil-A\, Dan T. Cathy represents the next generation of leadership for the Atlanta- based fast-food chicken restaurant chain founded by his father\, S. Truett Cathy. Eager to incorporate his own skills and talents into the business\, Dan has taken on unconventional\, yet personally and professionally rewarding approach to Chick-fil-A leadership.<br />\n<br />\n<br />\n<br />\n&nbsp\;
LOCATION:University of Mississippi Jackson Avenue Center Auditorium A 1111 Jackson Avenue West\, Oxford
UID:e.1330.1878
SEQUENCE:3
DTSTAMP:20260425T102506Z
URL:https://business.oxfordms.com/events/details/lou-lead-talks-04-27-2018-1878
END:VEVENT

END:VCALENDAR
