BEGIN:VCALENDAR
VERSION:2.0
PRODID:-//ChamberMaster//Event Calendar 2.0//EN
METHOD:PUBLISH
X-PUBLISHED-TTL:P3D
REFRESH-INTERVAL:P3D
CALSCALE:GREGORIAN
BEGIN:VEVENT
DTSTART:20190906T130000Z
DTEND:20190906T140000Z
X-MICROSOFT-CDO-ALLDAYEVENT:FALSE
SUMMARY:LOU Lead Talks
DESCRIPTION:Please join us for LOU Lead Talks\n\nPresented by the Oxford-Lafayette County Chamber of Commerce and Chick-Fil-A.\n\n\n\nGuest Speaker: Alex Gafford\, VP SouthEast at Blue Street Capital\n\n"THE DAY BEFORE VACATION MIRACLE: How to unlock productivity"
X-ALT-DESC;FMTTYPE=text/html:Please join us for&nbsp\;LOU Lead Talks<br />\nPresented by the Oxford-Lafayette County Chamber of Commerce and Chick-Fil-A.<br />\n<br />\nGuest Speaker: Alex Gafford\, VP SouthEast at Blue Street Capital<br />\n&quot\;THE DAY BEFORE VACATION MIRACLE: How to unlock productivity&quot\;<br />\n<br />\n&nbsp\;
LOCATION:University of Mississippi Jackson Avenue Center\, sponsored by UM Outreach Dept. 1111 Jackson Ave. West Complimentary parking available
UID:e.1330.3123
SEQUENCE:3
DTSTAMP:20260424T051930Z
URL:https://business.oxfordms.com/events/details/lou-lead-talks-09-06-2019-3123
END:VEVENT

END:VCALENDAR
