BEGIN:VCALENDAR
VERSION:2.0
PRODID:-//ChamberMaster//Event Calendar 2.0//EN
METHOD:PUBLISH
X-PUBLISHED-TTL:P3D
REFRESH-INTERVAL:P3D
CALSCALE:GREGORIAN
BEGIN:VEVENT
DTSTART:20200306T030000Z
DTEND:20200306T040000Z
X-MICROSOFT-CDO-ALLDAYEVENT:FALSE
SUMMARY:Lowen
DESCRIPTION:Lowen from Nashville\, TN is promoting her new EP\, "Only In My Dreams" for the first time. Come join us at Proud Larry's to celebrate her new music!
X-ALT-DESC;FMTTYPE=text/html:Lowen from Nashville\, TN is promoting her new EP\, &quot\;Only In My Dreams&quot\; for the first time. Come join us at Proud Larry&#39\;s to celebrate her new music!
LOCATION:Proud Larry's 211 S Lamar Blvd\, Oxford\, MS 38655
UID:e.1330.3173
SEQUENCE:3
DTSTAMP:20260423T204724Z
URL:https://business.oxfordms.com/events/details/lowen-03-05-2020-3173
END:VEVENT

END:VCALENDAR
