BEGIN:VCALENDAR
VERSION:2.0
PRODID:-//ChamberMaster//Event Calendar 2.0//EN
METHOD:PUBLISH
X-PUBLISHED-TTL:P3D
REFRESH-INTERVAL:P3D
CALSCALE:GREGORIAN
BEGIN:VEVENT
DTSTART:20170906T163000Z
DTEND:20170906T180000Z
X-MICROSOFT-CDO-ALLDAYEVENT:FALSE
SUMMARY:Lunch & Learn Seminar: It's All About Who You Know... and WHO Knows You!
DESCRIPTION:This seminar will feature Steve Vassallo\, Certified Economic Developer and Community Ambassador for Cannon Motors of MS. Vassallo will provide a concise\, but comprehensive overview on the importance of networking\, focusing on "It's All About Who You Know... and WHO Knows You." Attendees will learn how to network for best results.\n\n \nIn addition they will have plenty of time to ask questions and share experiences. They will leave with real-world insights and knowledge that they can immediately put to work to help their business or organization succeed.
X-ALT-DESC;FMTTYPE=text/html:<div style="color: gray\;"><span style="color: rgb(51\, 51\, 51)\; font-family: &quot\;Trebuchet MS&quot\;\,&quot\;sans-serif&quot\;\; font-size: 11pt\;"><o:p></o:p></span>\n<p style="margin: 0in 0in 0pt\; text-align: justify\;"><span style="font-family:arial\;"><span style="font-size: 12px\;"><span style="color: rgb(51\, 51\, 51)\;">This seminar will feature Steve Vassallo\, Certified Economic Developer and Community Ambassador for Cannon Motors of MS. Vassallo will provide a concise\, but comprehensive overview on the importance of networking\, focusing on &quot\;It&#39\;s All About Who You Know... and WHO Knows You.&quot\; Attendees will learn how to network for best results.</span></span></span></p>\n\n<p style="margin: 0in 0in 0pt\; text-align: justify\;"><span style="font-family:arial\;"><span style="color: rgb(51\, 51\, 51)\; font-size: 11pt\;">&nbsp\;</span></span><span style="color: rgb(51\, 51\, 51)\; font-family: &quot\;Trebuchet MS&quot\;\,&quot\;sans-serif&quot\;\; font-size: 11pt\;"><o:p></o:p></span></p>\n<span style="font-size:12px\;"><span style="font-family: arial\;"><span style="color: rgb(51\, 51\, 51)\;">In addition they will have plenty of time to ask questions and share experiences. They will leave with real-world insights and knowledge that they can immediately put to work to help their business or organization succeed.</span></span></span></div>\n
LOCATION:Oxford-Lafayette County Chamber Board Room 299 Jackson Ave. Oxford
UID:e.1330.1787
SEQUENCE:3
DTSTAMP:20260425T202417Z
URL:https://business.oxfordms.com/events/details/lunch-learn-seminar-it-s-all-about-who-you-know-and-who-knows-you-09-06-2017-1787
END:VEVENT

END:VCALENDAR
