BEGIN:VCALENDAR
VERSION:2.0
PRODID:-//ChamberMaster//Event Calendar 2.0//EN
METHOD:PUBLISH
X-PUBLISHED-TTL:P3D
REFRESH-INTERVAL:P3D
CALSCALE:GREGORIAN
BEGIN:VEVENT
DTSTART:20190122T173000Z
DTEND:20190122T190000Z
X-MICROSOFT-CDO-ALLDAYEVENT:FALSE
SUMMARY:Lunch & Learn Seminar: LEARN HOW TO EFFECTIVELY PROTECT YOUR BUSINESS
DESCRIPTION:Cyber threats are one of the top issues facing organizations and business of all sizes. Did you know that 75 percent of data breaches target small-to mid-sized businesses? Not only does this compromise customer trust\, this could permanently\n\nclose the door of your business.
X-ALT-DESC;FMTTYPE=text/html:<div style="color: gray\;"><span style="color: rgb(51\, 51\, 51)\; font-family: &quot\;Trebuchet MS&quot\;\,&quot\;sans-serif&quot\;\; font-size: 11pt\;"><o:p></o:p></span>\n<p style="margin: 0in 0in 0pt\; text-align: justify\;"><span style="font-size: 12px\;"><span style="font-family: tahoma\;">Cyber threats are one of the top issues facing organizations and business of all sizes. Did you know that 75 percent of data breaches target small-to mid-sized businesses? Not only does this compromise customer trust\, this could permanently<br />\nclose the door of your business.</span></span><br />\n&nbsp\;</p>\n</div>\n
LOCATION:Oxford-Lafayette County Chamber Board Room 299 Jackson Ave. Oxford
UID:e.1330.3071
SEQUENCE:3
DTSTAMP:20260424T174243Z
URL:https://business.oxfordms.com/events/details/lunch-learn-seminar-learn-how-to-effectively-protect-your-business-01-22-2019-3071
END:VEVENT

END:VCALENDAR
