BEGIN:VCALENDAR
VERSION:2.0
PRODID:-//ChamberMaster//Event Calendar 2.0//EN
METHOD:PUBLISH
X-PUBLISHED-TTL:P3D
REFRESH-INTERVAL:P3D
CALSCALE:GREGORIAN
BEGIN:VEVENT
DTSTART:20180411T203000Z
DTEND:20180411T210000Z
X-MICROSOFT-CDO-ALLDAYEVENT:FALSE
SUMMARY:Luxe Styling Ribbon Cutting Ceremony
DESCRIPTION:Luxe Styling will celebrate their new business in Oxford with a Ribbon Cutting Ceremony hosted by the Oxford-Lafayette County Chamber. Luxe Styling Studio provides a complete variety of professional hair coloring and hair styling services for women\, men\, and children of all ages!
X-ALT-DESC;FMTTYPE=text/html:Luxe Styling will celebrate their&nbsp\;new business in Oxford with a Ribbon Cutting Ceremony hosted by the Oxford-Lafayette County Chamber. <span class="text-all">Luxe Styling Studio provides a complete variety of professional hair coloring and hair styling services for women\, men\, and children of all ages! </span>
LOCATION:1308 University Ave Oxford\, MS
UID:e.1330.1879
SEQUENCE:3
DTSTAMP:20260425T105703Z
URL:https://business.oxfordms.com/events/details/luxe-styling-ribbon-cutting-ceremony-04-11-2018-1879
END:VEVENT

END:VCALENDAR
