BEGIN:VCALENDAR
VERSION:2.0
PRODID:-//ChamberMaster//Event Calendar 2.0//EN
METHOD:PUBLISH
X-PUBLISHED-TTL:P3D
REFRESH-INTERVAL:P3D
CALSCALE:GREGORIAN
BEGIN:VEVENT
DTSTART;VALUE=DATE:20190627
DTEND;VALUE=DATE:20190719
TRANSP:TRANSPARENT
X-MICROSOFT-CDO-ALLDAYEVENT:TRUE
SUMMARY:McAlister's Deli TeaTown Showdown
DESCRIPTION:Join in the friendly competition of "TeaTown Showdown" now through July 18th at your local McAlister's Deli! You can cast your vote for your town (local restaurant) by purchasing a refreshing iced tea or going online. Not only does your vote support the restaurant\, but also its partnering non-profit. The top three locations that receive the most votes will receive a donation to their local charity partner with first place receiving $10\,000 plus the Tea Town Showdown trophy\, second place $5\,000 and third place $2\,500. Customers can give back even more on local cause fundraiser nights to benefit each restaurant's community partner. There are only 2 fundraising nights left on July 1st and 15th\, so come on down!
X-ALT-DESC;FMTTYPE=text/html:Join in the friendly competition of &ldquo\;TeaTown Showdown&rdquo\; now through July 18th at your local McAlister&rsquo\;s Deli! You can cast your vote for your town (local restaurant) by purchasing a refreshing iced tea or going online. Not only does your vote support the restaurant\, but also its partnering non-profit. The top three locations that receive the most votes will receive a donation to their local charity partner with first place receiving $10\,000 plus the Tea Town Showdown trophy\, second place $5\,000 and third place $2\,500. Customers can give back even more on local cause fundraiser nights to benefit each restaurant&rsquo\;s community partner. There are only 2 fundraising nights left on July 1st and 15th\, so come on down!
LOCATION:McAlister's Deli
UID:e.1330.3113
SEQUENCE:3
DTSTAMP:20260424T094038Z
URL:https://business.oxfordms.com/events/details/mcalister-s-deli-teatown-showdown-06-27-2019-3113
END:VEVENT

END:VCALENDAR
