BEGIN:VCALENDAR
VERSION:2.0
PRODID:-//ChamberMaster//Event Calendar 2.0//EN
METHOD:PUBLISH
X-PUBLISHED-TTL:P3D
REFRESH-INTERVAL:P3D
CALSCALE:GREGORIAN
BEGIN:VEVENT
DTSTART:20171004T210000Z
DTEND:20171004T213000Z
X-MICROSOFT-CDO-ALLDAYEVENT:FALSE
SUMMARY:Midsouth Pain Treatment Center Ribbon Cutting Ceremony
DESCRIPTION:Midsouth Pain Treatment Center will celebrate their new business in Oxford with a Ribbon Cutting Ceremony hosted by the Oxford-Lafayette County Chamber. Midsouth Pain Treatment Center works to alleviate pain by making a careful\, pin-point diagnosis in order to give their patients targeted treatment\, including back\, neck\,shoulder\, hip\, leg\, hand\, and foot pain.
X-ALT-DESC;FMTTYPE=text/html:Midsouth Pain Treatment Center will celebrate their&nbsp\;new business&nbsp\;in Oxford with a&nbsp\;Ribbon Cutting Ceremony hosted by the Oxford-Lafayette County Chamber. Midsouth Pain Treatment Center works to alleviate pain by making a careful\, pin-point diagnosis in order to give their patients targeted treatment\, including back\, neck\,shoulder\, hip\, leg\, hand\, and foot pain.
LOCATION:101 Ricky D. Britt SR Blvd. Ste. 2
UID:e.1330.1799
SEQUENCE:3
DTSTAMP:20260425T184159Z
URL:https://business.oxfordms.com/events/details/midsouth-pain-treatment-center-ribbon-cutting-ceremony-10-04-2017-1799
END:VEVENT

END:VCALENDAR
