BEGIN:VCALENDAR
VERSION:2.0
PRODID:-//ChamberMaster//Event Calendar 2.0//EN
METHOD:PUBLISH
X-PUBLISHED-TTL:P3D
REFRESH-INTERVAL:P3D
CALSCALE:GREGORIAN
BEGIN:VEVENT
DTSTART:20171121T163000Z
DTEND:20171121T170000Z
X-MICROSOFT-CDO-ALLDAYEVENT:FALSE
SUMMARY:Moe's Original BBQ Ribbon Cutting Ceremony
DESCRIPTION:Moe's Original BBQ will celebrate their new business in Oxford with a Ribbon Cutting Ceremony hosted by the Oxford-Lafayette County Chamber. Moe's Original BBQ is a Southern soul food revival where great food is served in an atmosphere that is relaxed\, spontaneous\, yet civilized....well\, sometimes.
X-ALT-DESC;FMTTYPE=text/html:Moe&#39\;s Original BBQ will celebrate their&nbsp\;new business&nbsp\;in Oxford with a&nbsp\;Ribbon Cutting Ceremony hosted by the Oxford-Lafayette County Chamber. Moe&#39\;s Original BBQ is a Southern soul food revival where great food is served in an atmosphere that is relaxed\, spontaneous\, yet civilized....well\, sometimes.<br />\n&nbsp\;
LOCATION:311 S. Lamar Blvd.\, Oxford\, MS
UID:e.1330.1837
SEQUENCE:3
DTSTAMP:20260425T183917Z
URL:https://business.oxfordms.com/events/details/moe-s-original-bbq-ribbon-cutting-ceremony-11-21-2017-1837
END:VEVENT

END:VCALENDAR
